BEGIN:VCALENDAR
VERSION:2.0
PRODID:-//eventon.com NONSGML v1.0//EN
CALSCALE:GREGORIAN
METHOD:PUBLISH
BEGIN:VEVENT
UID:69e5004a0d502
DTSTAMP:20260419T161818Z
DTSTART:20211218T100000Z
DTEND:20211219T190000Z
LOCATION:
SUMMARY:Torneo de Fútbol Volta
DESCRIPTION:La Concejalía de Juventud organiza un torneo de Fútbol Volta 
 de 4&#215;4 los días 18 y 19 de diciembre. Será en la Plaza del Reloj y p
 odrán participar jóvenes a partir de 8 años en las categorías benjamín
 \,  alevín\,  infantil\,  cadete\,  juvenil y senior. El torneo es gratuit
 o y requiere[..]\nhttps://alguazas.es/events/torneo-de-futbol-volta/
URL:https://alguazas.es/events/torneo-de-futbol-volta/
END:VEVENT
END:VCALENDAR