BEGIN:VCALENDAR
VERSION:2.0
PRODID:-//eventon.com NONSGML v1.0//EN
CALSCALE:GREGORIAN
METHOD:PUBLISH
BEGIN:VEVENT
UID:69e8787b8eb8f
DTSTAMP:20260422T072755Z
DTSTART:20220102T153000Z
DTEND:20220102T193000Z
LOCATION:
SUMMARY:Scape Room en Alguazas
DESCRIPTION:Día: domingo 2 de enero de 2022 Hora: de 15:30 a 19:30 horas L
 ugar: Pabellón de Deportes La Concejalía de Juventud organiza un Scape Ro
 om en Alguazas para que los jóvenes puedan disfrutar de un entretenido jue
 go lleno de pruebas y diversión donde tendrán 50 minutos para salir de la
 [..]\nhttps://alguazas.es/events/scape-room-en-alguazas/
URL:https://alguazas.es/events/scape-room-en-alguazas/
END:VEVENT
END:VCALENDAR