BEGIN:VCALENDAR
VERSION:2.0
PRODID:-//eventon.com NONSGML v1.0//EN
CALSCALE:GREGORIAN
METHOD:PUBLISH
BEGIN:VEVENT
UID:69ed071aba938
DTSTAMP:20260425T182530Z
DTSTART:20211213
DTEND:20211214
LOCATION:
SUMMARY:Semana gastronómica en la Plaza de Abastos
DESCRIPTION:La semana del 13 al 19 de diciembre los puestos de la Plaza de 
 Abastos organizan una “Semana Gastronómica” donde los clientes podrán
  degustar por 2€ las distintas tapas+bebida que han preparado. Además\, 
  quienes completen las consumiciones de todos los puestos entrarán en el s
 orteo de un regalo en cada[..]\nhttps://alguazas.es/events/semana-gastronom
 ica-en-la-plaza-de-abastos/
URL:https://alguazas.es/events/semana-gastronomica-en-la-plaza-de-abastos/
END:VEVENT
END:VCALENDAR