BEGIN:VCALENDAR
VERSION:2.0
PRODID:-//eventon.com NONSGML v1.0//EN
CALSCALE:GREGORIAN
METHOD:PUBLISH
BEGIN:VEVENT
UID:69e9e871743e6
DTSTAMP:20260423T093753Z
DTSTART:20201227T120000Z
DTEND:20201227T150000Z
LOCATION:
SUMMARY:Cantajuegos infantil
DESCRIPTION:Día: 27-12-2020 Hora: 12:00 horas Lugar: Plaza Adolfo Suárez 
 &nbsp; Cantajuegos infantil por el Grupo Gelatina.\nhttps://alguazas.es/eve
 nts/cantajuegos-infantil/
URL:https://alguazas.es/events/cantajuegos-infantil/
END:VEVENT
END:VCALENDAR