BEGIN:VCALENDAR
VERSION:2.0
PRODID:-//eventon.com NONSGML v1.0//EN
CALSCALE:GREGORIAN
METHOD:PUBLISH
BEGIN:VEVENT
UID:69e590b1184ca
DTSTAMP:20260420T023425Z
DTSTART:20220211T163000Z
DTEND:20220211T183000Z
LOCATION:
SUMMARY:Taller de cocina saludable para jóvenes
DESCRIPTION:La Concejalía de Juventud organiza un taller GRATUITO de «coc
 ina saludable» durante tres viernes\,  en el que jóvenes podrán aprender
  técnicas culinarias para elaborar ricas comidas y postres de forma sana y
  saludable. Este taller se realiza con la colaboración del CES Vega Media.
  Fechas: viernes 11\,  18 y 25[..]\nhttps://alguazas.es/events/taller-de-co
 cina-saludable-para-jovenes/
URL:https://alguazas.es/events/taller-de-cocina-saludable-para-jovenes/
END:VEVENT
END:VCALENDAR