BEGIN:VCALENDAR
VERSION:2.0
PRODID:-//eventon.com NONSGML v1.0//EN
CALSCALE:GREGORIAN
METHOD:PUBLISH
BEGIN:VEVENT
UID:69e79c848f3e2
DTSTAMP:20260421T154924Z
DTSTART:20220225T163000Z
DTEND:20220225T183000Z
LOCATION:
SUMMARY:Taller de cocina saludable para jóvenes
DESCRIPTION:La Concejalía de Juventud organiza un taller GRATUITO de «coc
 ina saludable» durante tres viernes\,  en el que jóvenes podrán aprender
  técnicas culinarias para elaborar ricas comidas y postres de forma sana y
  saludable. Este taller se realiza con la colaboración del CES Vega Media.
  Fechas: viernes 11\,  18 y 25[..]\nhttps://alguazas.es/events/taller-de-co
 cina-saludable-para-jovenes-3/
URL:https://alguazas.es/events/taller-de-cocina-saludable-para-jovenes-3/
END:VEVENT
END:VCALENDAR