BEGIN:VCALENDAR
VERSION:2.0
PRODID:-//eventon.com NONSGML v1.0//EN
CALSCALE:GREGORIAN
METHOD:PUBLISH
BEGIN:VEVENT
UID:69e76a23c2440
DTSTAMP:20260421T121427Z
DTSTART:20220228T180000Z
DTEND:20220322T213000Z
LOCATION:
SUMMARY:Curso para personas en activo sobre Eco-Commerce
DESCRIPTION:La Concejalía de Comercio ofrece un curso sobre el comercio di
 gital a personas en activo del municipio. El curso tiene una duración tota
 l de 35 horas\,  de 18 a 21:30 horas las tardes del 28 de febrero\,  1\,  2
 \,  3\,  8\,  9\,  10\,  15\,  16\,  17 y 22 de marzo.[..]\nhttps://alguaza
 s.es/events/curso-para-personas-en-activo-sobre-eco-commerce/
URL:https://alguazas.es/events/curso-para-personas-en-activo-sobre-eco-commerce/
END:VEVENT
END:VCALENDAR