BEGIN:VCALENDAR
VERSION:2.0
PRODID:-//eventon.com NONSGML v1.0//EN
CALSCALE:GREGORIAN
METHOD:PUBLISH
BEGIN:VEVENT
UID:69e78201518f6
DTSTAMP:20260421T135617Z
DTSTART:20220327
DTEND:20220328
LOCATION:
SUMMARY:Salida a Bullas con la Asociación de Mujeres
DESCRIPTION:La Concejalía de Igualdad organiza\,  en colaboración con la 
 Asociación de Mujeres de Alguazas\,  una jornada de convivencia para el di
 sfrute de nuestros vecinos y potenciar el conocimiento de nuestra región.\
 nhttps://alguazas.es/events/salida-a-bullas-con-la-asociacion-de-mujeres/
URL:https://alguazas.es/events/salida-a-bullas-con-la-asociacion-de-mujeres/
END:VEVENT
END:VCALENDAR