BEGIN:VCALENDAR
VERSION:2.0
PRODID:-//eventon.com NONSGML v1.0//EN
CALSCALE:GREGORIAN
METHOD:PUBLISH
BEGIN:VEVENT
UID:69e8c8cd1cf64
DTSTAMP:20260422T131037Z
DTSTART:20220403T200000Z
DTEND:20220403T220000Z
LOCATION:
SUMMARY:Actuación del grupo de teatro "El Molinico Alguaceño"
DESCRIPTION:La Concejalía de Cultura del Ayuntamiento de Alguazas\,  invit
 a el próximo domingo 3 de abril\,  a las 20:00 horas\,  en la Casa de la C
 ultura de Alguazas\,  a la representación de los divertidos sainetes: «EL
  PIE IZQUIERDO» de Carlos Arniches y Celso Lucio y ”ESTRELLA» de Antoni
 o Fernández Lepina a[..]\nhttps://alguazas.es/events/actuacion-del-grupo-d
 e-teatro-el-molinico-alguaceno/
URL:https://alguazas.es/events/actuacion-del-grupo-de-teatro-el-molinico-alguaceno/
END:VEVENT
END:VCALENDAR