BEGIN:VCALENDAR
VERSION:2.0
PRODID:-//eventon.com NONSGML v1.0//EN
CALSCALE:GREGORIAN
METHOD:PUBLISH
BEGIN:VEVENT
UID:69ed40aaca31e
DTSTAMP:20260425T223106Z
DTSTART:20220410T183000Z
DTEND:20220410T200000Z
LOCATION:
SUMMARY:Inauguración de la exposición "Bruno Banalli"
DESCRIPTION:La Concejalía de Cultura del Ayuntamiento de Alguazas informa 
 que el próximo Domingo 10 de Abril tendrá lugar la inauguración de la Ex
 posición de Bruno Banalli en la Torre Vieja a las 18.30h. &nbsp;\nhttps://
 alguazas.es/events/inauguracion-de-la-exposicion-bruno-banalli/
URL:https://alguazas.es/events/inauguracion-de-la-exposicion-bruno-banalli/
END:VEVENT
END:VCALENDAR