BEGIN:VCALENDAR
VERSION:2.0
PRODID:-//eventon.com NONSGML v1.0//EN
CALSCALE:GREGORIAN
METHOD:PUBLISH
BEGIN:VEVENT
UID:69e7b5b16844c
DTSTAMP:20260421T173649Z
DTSTART:20220605T210000Z
DTEND:20220605T230000Z
LOCATION:
SUMMARY:Pasarela de moda "Alguazas es tendencia"
DESCRIPTION:La Asociación de Comercios y Empresas de Alguazas\,  con la co
 laboración de Andrea Dólera Peñalver y el Ayuntamiento de Alguazas\,  or
 ganizan la I edición de «Alguazas es Tendencia»\,  una pasarela de moda 
 donde desfilarán colecciones locales de Miss Tachuelas\,  El Maestro\,  Ra
 dikal World\,  Laazo 80 y Da Vinci Ópticas\,  además[..]\nhttps://alguaza
 s.es/events/pasarela-de-moda-alguazas-es-tendencia/
URL:https://alguazas.es/events/pasarela-de-moda-alguazas-es-tendencia/
END:VEVENT
END:VCALENDAR