BEGIN:VCALENDAR
VERSION:2.0
PRODID:-//eventon.com NONSGML v1.0//EN
CALSCALE:GREGORIAN
METHOD:PUBLISH
BEGIN:VEVENT
UID:69e4ffef1db6a
DTSTAMP:20260419T161647Z
DTSTART:20220802
DTEND:20220803
LOCATION:
SUMMARY:I Concurso de "Proyectos Empresariales" para pymes y autónomos de Alguazas
DESCRIPTION:La Concejalía de Comercio convoca a través de la Oficina del 
 Emprendedor un concurso de «proyectos empresariales» en el que podrán pa
 rticipar emprendedores\,  pymes y comercios de la localidad en dos modalida
 des distintas. El plazo de presentación de candidaturas es hasta el 10 de 
 septiembre de 2022. Los premios a[..]\nhttps://alguazas.es/events/i-concurs
 o-de-proyectos-empresariales-para-pymes-y-autonomos-de-alguazas/
URL:https://alguazas.es/events/i-concurso-de-proyectos-empresariales-para-pymes-y-autonomos-de-alguazas/
END:VEVENT
END:VCALENDAR