BEGIN:VCALENDAR
VERSION:2.0
PRODID:-//eventon.com NONSGML v1.0//EN
CALSCALE:GREGORIAN
METHOD:PUBLISH
BEGIN:VEVENT
UID:69eaa871a83d2
DTSTAMP:20260423T231705Z
DTSTART:20221001T100000Z
DTEND:20221001T150000Z
LOCATION:
SUMMARY:Gran Premio de KARTS
DESCRIPTION:El sábado 1 de octubre los jóvenes podrán participar en un G
 ran Premio de KARTS en el circuito Go Karts Mar Menor en San Javier\,  orga
 nizado por la Concejalía de Juventud. Esta sería la segunda edición de u
 n emocionante día de velocidad en un circuito de primer nivel. Los corredo
 res[..]\nhttps://alguazas.es/events/gran-premio-de-karts-2/
URL:https://alguazas.es/events/gran-premio-de-karts-2/
END:VEVENT
END:VCALENDAR