BEGIN:VCALENDAR
VERSION:2.0
PRODID:-//eventon.com NONSGML v1.0//EN
CALSCALE:GREGORIAN
METHOD:PUBLISH
BEGIN:VEVENT
UID:69e79d33835fd
DTSTAMP:20260421T155219Z
DTSTART:20220915T200000Z
DTEND:20220915T220000Z
LOCATION:
SUMMARY:Club de lectura de la Biblioteca
DESCRIPTION:Jueves\,  15 de septiembre\,  iniciamos el curso del Club de Le
 ctura\,  con el libro del verano: «Los mares del Sur» de Manuel Vázquez 
 Montalbán. Se hará entrega del punto de lectura con los títulos de este 
 año. 20/00h. en la Biblioteca.\nhttps://alguazas.es/events/club-de-lectura
 -de-la-biblioteca/
URL:https://alguazas.es/events/club-de-lectura-de-la-biblioteca/
END:VEVENT
END:VCALENDAR