BEGIN:VCALENDAR
VERSION:2.0
PRODID:-//eventon.com NONSGML v1.0//EN
CALSCALE:GREGORIAN
METHOD:PUBLISH
BEGIN:VEVENT
UID:69e79cdf08a5a
DTSTAMP:20260421T155055Z
DTSTART:20220917T203000Z
DTEND:20220917T220000Z
LOCATION:
SUMMARY:Veladas literarias en la Torre Vieja
DESCRIPTION:La Concejalía de Cultura del Ayuntamiento de Alguazas invita a
  las «Veladas literarias en la Torre de las Alguazas». Sábado 17 de Sept
 iembre a las 20.30h en la Torre Vieja.\nhttps://alguazas.es/events/veladas-
 literarias-en-la-torre-vieja/
URL:https://alguazas.es/events/veladas-literarias-en-la-torre-vieja/
END:VEVENT
END:VCALENDAR