BEGIN:VCALENDAR
VERSION:2.0
PRODID:-//eventon.com NONSGML v1.0//EN
CALSCALE:GREGORIAN
METHOD:PUBLISH
BEGIN:VEVENT
UID:69e7773cdfc69
DTSTAMP:20260421T131020Z
DTSTART:20220925T173000Z
DTEND:20220925T200000Z
LOCATION:
SUMMARY:Partido de fútbol Veteranos de Alguazas vs Caravaca de la Cruz
DESCRIPTION:Lugar: Campo de Fútbol San Lorenzo Fecha: domingo 25 de septie
 mbre Hora: a las 17:30 horas\nhttps://alguazas.es/events/partido-de-futbol-
 veteranos-de-alguazas-vs-caravaca-de-la-cruz/
URL:https://alguazas.es/events/partido-de-futbol-veteranos-de-alguazas-vs-caravaca-de-la-cruz/
END:VEVENT
END:VCALENDAR