BEGIN:VCALENDAR
VERSION:2.0
PRODID:-//eventon.com NONSGML v1.0//EN
CALSCALE:GREGORIAN
METHOD:PUBLISH
BEGIN:VEVENT
UID:69e83dce6d033
DTSTAMP:20260422T031734Z
DTSTART:20221002T170000Z
DTEND:20221002T180000Z
LOCATION:
SUMMARY:V Encuentro de Encajeras y Bolillo
DESCRIPTION:La ConcejalÃ­a de Cultura e Igualdad del Ayuntamiento de Alguaz
 as os invita al V Encuentro de Encajeras y Bolillo que tendrÃ¡ lugar el prÃ
 ³ximo domingo 2 de Octubre\,  a las 17h en la Plaza Adolfo SuÃ¡rez.Â El act
 o estÃ¡ organizando por la ConcejalÃ­a de Cultura e Igualdad del Ayuntamien
 to de Alguazas[..]\nhttps://alguazas.es/events/v-encuentro-de-encajeras-y-b
 olillo/
URL:https://alguazas.es/events/v-encuentro-de-encajeras-y-bolillo/
END:VEVENT
END:VCALENDAR