BEGIN:VCALENDAR
VERSION:2.0
PRODID:-//eventon.com NONSGML v1.0//EN
CALSCALE:GREGORIAN
METHOD:PUBLISH
BEGIN:VEVENT
UID:69e79c5b91bce
DTSTAMP:20260421T154843Z
DTSTART:20221001T073000Z
DTEND:20221001T113000Z
LOCATION:
SUMMARY:Ultramaratón 90k
DESCRIPTION:Este sábado 1 de octubre pasará por Alguazas la ultramaratón
  90k.\nhttps://alguazas.es/events/ultramaraton-90k/
URL:https://alguazas.es/events/ultramaraton-90k/
END:VEVENT
END:VCALENDAR