BEGIN:VCALENDAR
VERSION:2.0
PRODID:-//eventon.com NONSGML v1.0//EN
CALSCALE:GREGORIAN
METHOD:PUBLISH
BEGIN:VEVENT
UID:69e79c5c5db1d
DTSTAMP:20260421T154844Z
DTSTART:20221001T103000Z
DTEND:20221001T123000Z
LOCATION:
SUMMARY:Partido de fútbol sala Club E.D. Alguazas FS vs Futsal Paulo Roberto
DESCRIPTION:Fecha: sábado 1 de octubre Hora: 11:00 horas Lugar: Pabellón 
 de Deportes de Alguazas\nhttps://alguazas.es/events/partido-de-futbol-sala-
 club-e-d-alguazas-fs-vs-futsal-paulo-roberto/
URL:https://alguazas.es/events/partido-de-futbol-sala-club-e-d-alguazas-fs-vs-futsal-paulo-roberto/
END:VEVENT
END:VCALENDAR