BEGIN:VCALENDAR
VERSION:2.0
PRODID:-//eventon.com NONSGML v1.0//EN
CALSCALE:GREGORIAN
METHOD:PUBLISH
BEGIN:VEVENT
UID:69e530d0955bd
DTSTAMP:20260419T194520Z
DTSTART:20221001T170000Z
DTEND:20221001T183000Z
LOCATION:
SUMMARY:Partido de fútbol Alguazas Infantil vs Ceutí Atlético
DESCRIPTION:Fecha: sábado 1 de octubre Hora: 17:00 horas Lugar: Campo de F
 útbol (Alguazas)\nhttps://alguazas.es/events/partido-de-futbol-alguazas-in
 fantil-vs-ceuti-atletico/
URL:https://alguazas.es/events/partido-de-futbol-alguazas-infantil-vs-ceuti-atletico/
END:VEVENT
END:VCALENDAR