BEGIN:VCALENDAR
VERSION:2.0
PRODID:-//eventon.com NONSGML v1.0//EN
CALSCALE:GREGORIAN
METHOD:PUBLISH
BEGIN:VEVENT
UID:69e776e39229b
DTSTAMP:20260421T130851Z
DTSTART:20221003T200000Z
DTEND:20221003T210000Z
LOCATION:
SUMMARY:Jornada de votación de los Presupuestos Participativos en la Huerta de Arriba
DESCRIPTION:El lunes 3 de octubre de 20 a 21 horas se celebrará en la Huer
 ta de Arriba la primera jornada de votación a los presupuestos participati
 vos del año 2022. También puede votarse telemáticamente a través de est
 e enlace.\nhttps://alguazas.es/events/jornada-de-votacion-de-los-presupuest
 os-participativos-en-la-huerta-de-arriba/
URL:https://alguazas.es/events/jornada-de-votacion-de-los-presupuestos-participativos-en-la-huerta-de-arriba/
END:VEVENT
END:VCALENDAR