BEGIN:VCALENDAR
VERSION:2.0
PRODID:-//eventon.com NONSGML v1.0//EN
CALSCALE:GREGORIAN
METHOD:PUBLISH
BEGIN:VEVENT
UID:69e76a39045eb
DTSTAMP:20260421T121449Z
DTSTART:20221004T100000Z
DTEND:20221004T130000Z
LOCATION:
SUMMARY:Jornada de votación de los Presupuestos Participativos en el mercado semanal
DESCRIPTION:El martes 4 de octubre de 10 a 13 horas se celebrará en la exp
 lanada de RENFE a la entrada del mercado semanal otra jornada de votación 
 a los presupuestos participativos del año 2022. También puede votarse tel
 emáticamente a través de este enlace.\nhttps://alguazas.es/events/jornada
 -de-votacion-de-los-presupuestos-participativos-en-el-mercado-semanal/
URL:https://alguazas.es/events/jornada-de-votacion-de-los-presupuestos-participativos-en-el-mercado-semanal/
END:VEVENT
END:VCALENDAR