BEGIN:VCALENDAR
VERSION:2.0
PRODID:-//eventon.com NONSGML v1.0//EN
CALSCALE:GREGORIAN
METHOD:PUBLISH
BEGIN:VEVENT
UID:69e9214b714f4
DTSTAMP:20260422T192811Z
DTSTART:20221005T101500Z
DTEND:20221005T104500Z
LOCATION:
SUMMARY:Jornada de votación de los Presupuestos Participativos en el CES Vega Media
DESCRIPTION:El miércoles 5 de octubre de 10:15 a 10:45 horas se celebrará
  en el CES Vega Media otra jornada de votación a los presupuestos particip
 ativos del año 2022. Pueden participar todos los mayores de 16 años empad
 ronados en Alguazas; los votantes deberán ir provistos de su DNI. También
  puede votarse[..]\nhttps://alguazas.es/events/jornada-de-votacion-de-los-p
 resupuestos-participativos-en-el-ces-vega-media/
URL:https://alguazas.es/events/jornada-de-votacion-de-los-presupuestos-participativos-en-el-ces-vega-media/
END:VEVENT
END:VCALENDAR