BEGIN:VCALENDAR
VERSION:2.0
PRODID:-//eventon.com NONSGML v1.0//EN
CALSCALE:GREGORIAN
METHOD:PUBLISH
BEGIN:VEVENT
UID:69e55d603446d
DTSTAMP:20260419T225528Z
DTSTART:20221006T110000Z
DTEND:20221006T113000Z
LOCATION:
SUMMARY:Jornada de votación de los Presupuestos Participativos en el IES Villa de Alguazas
DESCRIPTION:El jueves 6 de octubre de 11 a 11:30 horas se celebrará en el 
 IES Villa de Alguazas otra jornada de votación a los presupuestos particip
 ativos del año 2022. Pueden participar todos los mayores de 16 años empad
 ronados en Alguazas; los votantes deberán ir provistos de su DNI. También
  puede[..]\nhttps://alguazas.es/events/jornada-de-votacion-de-los-presupues
 tos-participativos-en-el-ies-villa-de-alguazas/
URL:https://alguazas.es/events/jornada-de-votacion-de-los-presupuestos-participativos-en-el-ies-villa-de-alguazas/
END:VEVENT
END:VCALENDAR