BEGIN:VCALENDAR
VERSION:2.0
PRODID:-//eventon.com NONSGML v1.0//EN
CALSCALE:GREGORIAN
METHOD:PUBLISH
BEGIN:VEVENT
UID:69e895a513652
DTSTAMP:20260422T093221Z
DTSTART:20221014T200000Z
DTEND:20221014T220000Z
LOCATION:
SUMMARY:Partido de fútbol Cadete Alguazas vs Murcia Promesas
DESCRIPTION:Cadete Alguazas vs Murcia Promesas. Campo de Fútbol\,  20:00h.
 \nhttps://alguazas.es/events/partido-de-futbol-cadete-alguazas-vs-murcia-pr
 omesas/
URL:https://alguazas.es/events/partido-de-futbol-cadete-alguazas-vs-murcia-promesas/
END:VEVENT
END:VCALENDAR