BEGIN:VCALENDAR
VERSION:2.0
PRODID:-//eventon.com NONSGML v1.0//EN
CALSCALE:GREGORIAN
METHOD:PUBLISH
BEGIN:VEVENT
UID:69eb43f4179ac
DTSTAMP:20260424T102036Z
DTSTART:20221028T200000Z
DTEND:20221028T220000Z
LOCATION:
SUMMARY:DÃ­a internacional de la Ã“pera
DESCRIPTION:La ConcejalÃ­a de Cultura del Ayuntamiento de Alguazas invita a
  los vecinos y vecinas a conmemorar el DÃ­a Internacional de la Ã“pera. PrÃ
 ³ximo Viernes 28 de Octubre 20.00h Cine Teatro IV CENTENARIO\nhttps://algua
 zas.es/events/dia-internacional-de-la-opera/
URL:https://alguazas.es/events/dia-internacional-de-la-opera/
END:VEVENT
END:VCALENDAR