BEGIN:VCALENDAR
VERSION:2.0
PRODID:-//eventon.com NONSGML v1.0//EN
CALSCALE:GREGORIAN
METHOD:PUBLISH
BEGIN:VEVENT
UID:69e934312945d
DTSTAMP:20260422T204849Z
DTSTART:20221126T160000Z
DTEND:20221126T180000Z
LOCATION:
SUMMARY:Partido de fútbol alevín autonómica Alguazas vs Bullas Deportivo
DESCRIPTION:Alevín Autonómica Alguazas vs Bulas Deportivo. Campo de Fútb
 ol\,  16:00h. Sábado 26 de noviembre.\nhttps://alguazas.es/events/partido-
 de-futbol-alevin-autonomica-alguazas-vs-bullas-deportivo/
URL:https://alguazas.es/events/partido-de-futbol-alevin-autonomica-alguazas-vs-bullas-deportivo/
END:VEVENT
END:VCALENDAR