BEGIN:VCALENDAR
VERSION:2.0
PRODID:-//eventon.com NONSGML v1.0//EN
CALSCALE:GREGORIAN
METHOD:PUBLISH
BEGIN:VEVENT
UID:69ec1b9ba97f8
DTSTAMP:20260425T014043Z
DTSTART:20221203T113000Z
DTEND:20221203T130000Z
LOCATION:
SUMMARY:Partido de fútbol sala ED Alguazas FS vs AT Cieza FS
DESCRIPTION:ED Alguazas FS vs AT Cieza FS. Pabellón Municipal 11:30h.\nhtt
 ps://alguazas.es/events/partido-de-futbol-sala-ed-alguazas-fs-vs-at-cieza-f
 s/
URL:https://alguazas.es/events/partido-de-futbol-sala-ed-alguazas-fs-vs-at-cieza-fs/
END:VEVENT
END:VCALENDAR