BEGIN:VCALENDAR
VERSION:2.0
PRODID:-//eventon.com NONSGML v1.0//EN
CALSCALE:GREGORIAN
METHOD:PUBLISH
BEGIN:VEVENT
UID:69e528a99e8cd
DTSTAMP:20260419T191033Z
DTSTART:20221203T160000Z
DTEND:20221203T180000Z
LOCATION:
SUMMARY:Partido de fútbol prebenjamín Alguazas vs Altorreal
DESCRIPTION:Prebenjamín Alguazas vs Altorreal. Campo de Fútbol 16:00h\nht
 tps://alguazas.es/events/partido-de-futbol-prebenjamin-alguazas-vs-altorrea
 l/
URL:https://alguazas.es/events/partido-de-futbol-prebenjamin-alguazas-vs-altorreal/
END:VEVENT
END:VCALENDAR