BEGIN:VCALENDAR
VERSION:2.0
PRODID:-//eventon.com NONSGML v1.0//EN
CALSCALE:GREGORIAN
METHOD:PUBLISH
BEGIN:VEVENT
UID:69e5a5d89309d
DTSTAMP:20260420T040440Z
DTSTART:20221204T160000Z
DTEND:20221204T180000Z
LOCATION:
SUMMARY:Partido de fútbol alevín Alguazas vs Lorqui CF
DESCRIPTION:3º Alevín Alguazas vs Lorqui CF .Campo de Fútbol 16:00h\nhtt
 ps://alguazas.es/events/partido-de-futbol-alevin-alguazas-vs-lorqui-cf/
URL:https://alguazas.es/events/partido-de-futbol-alevin-alguazas-vs-lorqui-cf/
END:VEVENT
END:VCALENDAR