BEGIN:VCALENDAR
VERSION:2.0
PRODID:-//eventon.com NONSGML v1.0//EN
CALSCALE:GREGORIAN
METHOD:PUBLISH
BEGIN:VEVENT
UID:69e83db19bfc7
DTSTAMP:20260422T031705Z
DTSTART:20221204T180000Z
DTEND:20221204T200000Z
LOCATION:
SUMMARY:Partido de fútbol cadete Alguazas vs Calasparra CF
DESCRIPTION:1ª Cadete Alguazas vs Calasparra CF. Campo de Fútbol 18:00h\n
 https://alguazas.es/events/partido-de-futbol-cadete-alguazas-vs-calasparra-
 cf/
URL:https://alguazas.es/events/partido-de-futbol-cadete-alguazas-vs-calasparra-cf/
END:VEVENT
END:VCALENDAR