BEGIN:VCALENDAR
VERSION:2.0
PRODID:-//eventon.com NONSGML v1.0//EN
CALSCALE:GREGORIAN
METHOD:PUBLISH
BEGIN:VEVENT
UID:69e85907a1ebe
DTSTAMP:20260422T051343Z
DTSTART:20221204T100000Z
DTEND:20221204T130000Z
LOCATION:
SUMMARY:Campeonato regional de Kárate en Alguazas
DESCRIPTION:Campeonato Regional de Karate. Pabellón Municipal a partir de 
 las 10:00h.\nhttps://alguazas.es/events/campeonato-regional-de-karate-en-al
 guazas/
URL:https://alguazas.es/events/campeonato-regional-de-karate-en-alguazas/
END:VEVENT
END:VCALENDAR